Workbook

Sheet Com es fa servir
B2: Plantilla de llista de càrrega per a vending
B4: Per a què serveix: saber abans de sortir quantes unitats de cada producte has de treure del magatzem per a les màquines que visites avui.
B5: 1. A «Productes», escriu una vegada el que vens i quantes unitats porta cada caixa.
B6: 2. A cada full «Màquina», una fila per cel·la: el codi de la cel·la, el producte (tria’l de la llista), el preu i la capacitat.
B7: 3. El dia de ruta, apunta a «En queden» el que queda a cada cel·la (o el que calcules que queda) i la columna «A carregar» s’omple sola.
B8: 4. A «Llista de càrrega», posa «Sí» sota les màquines que visites avui: suma el que falta de cada producte i et diu quantes caixes senceres i unitats soltes has de treure.
B9: Els fulls porten un exemple inventat a «Màquina 1» i «Màquina 2»: esborra’l i posa-hi el teu. Per a més màquines, duplica un full «Màquina» i afegeix-ne la columna a «Llista de càrrega».
B11: Plantilla gratuïta de Repónlo · La llista de càrrega feta sola, amb el ritme de venda de cada cel·la: reponlo.com/ca/ (gratis amb una màquina)

Sheet Llista de càrrega
A1: Llista de càrrega del dia
A3: La visites avui? | B3: Màquina 1 | C3: Màquina 2 | D3: Màquina 3 | E3: Màquina 4
B4: Sí | C4: Sí | D4: No | E4: No
A6: Producte | B6: Unitats a carregar | C6: Caixes senceres | D6: Unitats soltes
A7: =IF('Productes'!A2="","",'Productes'!A2) | B7: =IF($A7="","",IF(B$4="Sí",SUMIF('Màquina 1'!$B$2:$B$41,$A7,'Màquina 1'!$F$2:$F$41),0)+IF(C$4="Sí",SUMIF('Màquina 2'!$B$2:$B$41,$A7,'Màquina 2'!$F$2:$F$41),0)+IF(D$4="Sí",SUMIF('Màquina 3'!$B$2:$B$41,$A7,'Màquina 3'!$F$2:$F$41),0)+IF(E$4="Sí",SUMIF('Màquina 4'!$B$2:$B$41,$A7,'Màquina 4'!$F$2:$F$41),0)) | C7: =IF($A7="","",IF('Productes'!B2>0,INT(B7/'Productes'!B2),"")) | D7: =IF($A7="","",IF('Productes'!B2>0,MOD(B7,'Productes'!B2),""))
A8: =IF('Productes'!A3="","",'Productes'!A3) | B8: =IF($A8="","",IF(B$4="Sí",SUMIF('Màquina 1'!$B$2:$B$41,$A8,'Màquina 1'!$F$2:$F$41),0)+IF(C$4="Sí",SUMIF('Màquina 2'!$B$2:$B$41,$A8,'Màquina 2'!$F$2:$F$41),0)+IF(D$4="Sí",SUMIF('Màquina 3'!$B$2:$B$41,$A8,'Màquina 3'!$F$2:$F$41),0)+IF(E$4="Sí",SUMIF('Màquina 4'!$B$2:$B$41,$A8,'Màquina 4'!$F$2:$F$41),0)) | C8: =IF($A8="","",IF('Productes'!B3>0,INT(B8/'Productes'!B3),"")) | D8: =IF($A8="","",IF('Productes'!B3>0,MOD(B8,'Productes'!B3),""))
A9: =IF('Productes'!A4="","",'Productes'!A4) | B9: =IF($A9="","",IF(B$4="Sí",SUMIF('Màquina 1'!$B$2:$B$41,$A9,'Màquina 1'!$F$2:$F$41),0)+IF(C$4="Sí",SUMIF('Màquina 2'!$B$2:$B$41,$A9,'Màquina 2'!$F$2:$F$41),0)+IF(D$4="Sí",SUMIF('Màquina 3'!$B$2:$B$41,$A9,'Màquina 3'!$F$2:$F$41),0)+IF(E$4="Sí",SUMIF('Màquina 4'!$B$2:$B$41,$A9,'Màquina 4'!$F$2:$F$41),0)) | C9: =IF($A9="","",IF('Productes'!B4>0,INT(B9/'Productes'!B4),"")) | D9: =IF($A9="","",IF('Productes'!B4>0,MOD(B9,'Productes'!B4),""))
A10: =IF('Productes'!A5="","",'Productes'!A5) | B10: =IF($A10="","",IF(B$4="Sí",SUMIF('Màquina 1'!$B$2:$B$41,$A10,'Màquina 1'!$F$2:$F$41),0)+IF(C$4="Sí",SUMIF('Màquina 2'!$B$2:$B$41,$A10,'Màquina 2'!$F$2:$F$41),0)+IF(D$4="Sí",SUMIF('Màquina 3'!$B$2:$B$41,$A10,'Màquina 3'!$F$2:$F$41),0)+IF(E$4="Sí",SUMIF('Màquina 4'!$B$2:$B$41,$A10,'Màquina 4'!$F$2:$F$41),0)) | C10: =IF($A10="","",IF('Productes'!B5>0,INT(B10/'Productes'!B5),"")) | D10: =IF($A10="","",IF('Productes'!B5>0,MOD(B10,'Productes'!B5),""))
A11: =IF('Productes'!A6="","",'Productes'!A6) | B11: =IF($A11="","",IF(B$4="Sí",SUMIF('Màquina 1'!$B$2:$B$41,$A11,'Màquina 1'!$F$2:$F$41),0)+IF(C$4="Sí",SUMIF('Màquina 2'!$B$2:$B$41,$A11,'Màquina 2'!$F$2:$F$41),0)+IF(D$4="Sí",SUMIF('Màquina 3'!$B$2:$B$41,$A11,'Màquina 3'!$F$2:$F$41),0)+IF(E$4="Sí",SUMIF('Màquina 4'!$B$2:$B$41,$A11,'Màquina 4'!$F$2:$F$41),0)) | C11: =IF($A11="","",IF('Productes'!B6>0,INT(B11/'Productes'!B6),"")) | D11: =IF($A11="","",IF('Productes'!B6>0,MOD(B11,'Productes'!B6),""))
A12: =IF('Productes'!A7="","",'Productes'!A7) | B12: =IF($A12="","",IF(B$4="Sí",SUMIF('Màquina 1'!$B$2:$B$41,$A12,'Màquina 1'!$F$2:$F$41),0)+IF(C$4="Sí",SUMIF('Màquina 2'!$B$2:$B$41,$A12,'Màquina 2'!$F$2:$F$41),0)+IF(D$4="Sí",SUMIF('Màquina 3'!$B$2:$B$41,$A12,'Màquina 3'!$F$2:$F$41),0)+IF(E$4="Sí",SUMIF('Màquina 4'!$B$2:$B$41,$A12,'Màquina 4'!$F$2:$F$41),0)) | C12: =IF($A12="","",IF('Productes'!B7>0,INT(B12/'Productes'!B7),"")) | D12: =IF($A12="","",IF('Productes'!B7>0,MOD(B12,'Productes'!B7),""))
A13: =IF('Productes'!A8="","",'Productes'!A8) | B13: =IF($A13="","",IF(B$4="Sí",SUMIF('Màquina 1'!$B$2:$B$41,$A13,'Màquina 1'!$F$2:$F$41),0)+IF(C$4="Sí",SUMIF('Màquina 2'!$B$2:$B$41,$A13,'Màquina 2'!$F$2:$F$41),0)+IF(D$4="Sí",SUMIF('Màquina 3'!$B$2:$B$41,$A13,'Màquina 3'!$F$2:$F$41),0)+IF(E$4="Sí",SUMIF('Màquina 4'!$B$2:$B$41,$A13,'Màquina 4'!$F$2:$F$41),0)) | C13: =IF($A13="","",IF('Productes'!B8>0,INT(B13/'Productes'!B8),"")) | D13: =IF($A13="","",IF('Productes'!B8>0,MOD(B13,'Productes'!B8),""))
A14: =IF('Productes'!A9="","",'Productes'!A9) | B14: =IF($A14="","",IF(B$4="Sí",SUMIF('Màquina 1'!$B$2:$B$41,$A14,'Màquina 1'!$F$2:$F$41),0)+IF(C$4="Sí",SUMIF('Màquina 2'!$B$2:$B$41,$A14,'Màquina 2'!$F$2:$F$41),0)+IF(D$4="Sí",SUMIF('Màquina 3'!$B$2:$B$41,$A14,'Màquina 3'!$F$2:$F$41),0)+IF(E$4="Sí",SUMIF('Màquina 4'!$B$2:$B$41,$A14,'Màquina 4'!$F$2:$F$41),0)) | C14: =IF($A14="","",IF('Productes'!B9>0,INT(B14/'Productes'!B9),"")) | D14: =IF($A14="","",IF('Productes'!B9>0,MOD(B14,'Productes'!B9),""))
A15: =IF('Productes'!A10="","",'Productes'!A10) | B15: =IF($A15="","",IF(B$4="Sí",SUMIF('Màquina 1'!$B$2:$B$41,$A15,'Màquina 1'!$F$2:$F$41),0)+IF(C$4="Sí",SUMIF('Màquina 2'!$B$2:$B$41,$A15,'Màquina 2'!$F$2:$F$41),0)+IF(D$4="Sí",SUMIF('Màquina 3'!$B$2:$B$41,$A15,'Màquina 3'!$F$2:$F$41),0)+IF(E$4="Sí",SUMIF('Màquina 4'!$B$2:$B$41,$A15,'Màquina 4'!$F$2:$F$41),0)) | C15: =IF($A15="","",IF('Productes'!B10>0,INT(B15/'Productes'!B10),"")) | D15: =IF($A15="","",IF('Productes'!B10>0,MOD(B15,'Productes'!B10),""))
A16: =IF('Productes'!A11="","",'Productes'!A11) | B16: =IF($A16="","",IF(B$4="Sí",SUMIF('Màquina 1'!$B$2:$B$41,$A16,'Màquina 1'!$F$2:$F$41),0)+IF(C$4="Sí",SUMIF('Màquina 2'!$B$2:$B$41,$A16,'Màquina 2'!$F$2:$F$41),0)+IF(D$4="Sí",SUMIF('Màquina 3'!$B$2:$B$41,$A16,'Màquina 3'!$F$2:$F$41),0)+IF(E$4="Sí",SUMIF('Màquina 4'!$B$2:$B$41,$A16,'Màquina 4'!$F$2:$F$41),0)) | C16: =IF($A16="","",IF('Productes'!B11>0,INT(B16/'Productes'!B11),"")) | D16: =IF($A16="","",IF('Productes'!B11>0,MOD(B16,'Productes'!B11),""))
A17: =IF('Productes'!A12="","",'Productes'!A12) | B17: =IF($A17="","",IF(B$4="Sí",SUMIF('Màquina 1'!$B$2:$B$41,$A17,'Màquina 1'!$F$2:$F$41),0)+IF(C$4="Sí",SUMIF('Màquina 2'!$B$2:$B$41,$A17,'Màquina 2'!$F$2:$F$41),0)+IF(D$4="Sí",SUMIF('Màquina 3'!$B$2:$B$41,$A17,'Màquina 3'!$F$2:$F$41),0)+IF(E$4="Sí",SUMIF('Màquina 4'!$B$2:$B$41,$A17,'Màquina 4'!$F$2:$F$41),0)) | C17: =IF($A17="","",IF('Productes'!B12>0,INT(B17/'Productes'!B12),"")) | D17: =IF($A17="","",IF('Productes'!B12>0,MOD(B17,'Productes'!B12),""))
A18: =IF('Productes'!A13="","",'Productes'!A13) | B18: =IF($A18="","",IF(B$4="Sí",SUMIF('Màquina 1'!$B$2:$B$41,$A18,'Màquina 1'!$F$2:$F$41),0)+IF(C$4="Sí",SUMIF('Màquina 2'!$B$2:$B$41,$A18,'Màquina 2'!$F$2:$F$41),0)+IF(D$4="Sí",SUMIF('Màquina 3'!$B$2:$B$41,$A18,'Màquina 3'!$F$2:$F$41),0)+IF(E$4="Sí",SUMIF('Màquina 4'!$B$2:$B$41,$A18,'Màquina 4'!$F$2:$F$41),0)) | C18: =IF($A18="","",IF('Productes'!B13>0,INT(B18/'Productes'!B13),"")) | D18: =IF($A18="","",IF('Productes'!B13>0,MOD(B18,'Productes'!B13),""))
... A86: =IF('Productes'!A81="","",'Productes'!A81) | B86: =IF($A86="","",IF(B$4="Sí",SUMIF('Màquina 1'!$B$2:$B$41,$A86,'Màquina 1'!$F$2:$F$41),0)+IF(C$4="Sí",SUMIF('Màquina 2'!$B$2:$B$41,$A86,'Màquina 2'!$F$2:$F$41),0)+IF(D$4="Sí",SUMIF('Màquina 3'!$B$2:$B$41,$A86,'Màquina 3'!$F$2:$F$41),0)+IF(E$4="Sí",SUMIF('Màquina 4'!$B$2:$B$41,$A86,'Màquina 4'!$F$2:$F$41),0)) | C86: =IF($A86="","",IF('Productes'!B81>0,INT(B86/'Productes'!B81),"")) | D86: =IF($A86="","",IF('Productes'!B81>0,MOD(B86,'Productes'!B81),""))
A87: Total | B87: =SUM(B7:B86)

Sheet Productes
A1: Producte | B1: Unitats per caixa | C1: Preu de compra (sense IVA)
A2: Aigua 50 cl | B2: 12 | C2: 0.18
A3: Refresc de cola, llauna | B3: 24 | C3: 0.42
A4: Suc de taronja | B4: 12 | C4: 0.55
A5: Patates fregides | B5: 20 | C5: 0.38
A6: Barreta de cereals | B6: 24 | C6: 0.35
A7: Galetes | B7: 20 | C7: 0.3

Sheet Màquina 1
A1: Cel·la | B1: Producte | C1: Preu | D1: Capacitat | E1: En queden | F1: A carregar
A2: 11 | B2: Aigua 50 cl | C2: 1 | D2: 10 | E2: 3 | F2: =IF(OR(D2="",E2=""),"",MAX(0,D2-E2))
A3: 12 | B3: Refresc de cola, llauna | C3: 1.3 | D3: 8 | E3: 2 | F3: =IF(OR(D3="",E3=""),"",MAX(0,D3-E3))
A4: 13 | B4: Suc de taronja | C4: 1.4 | D4: 8 | E4: 6 | F4: =IF(OR(D4="",E4=""),"",MAX(0,D4-E4))
A5: 21 | B5: Patates fregides | C5: 1.1 | D5: 12 | E5: 5 | F5: =IF(OR(D5="",E5=""),"",MAX(0,D5-E5))
A6: 22 | B6: Barreta de cereals | C6: 1.2 | D6: 10 | E6: 10 | F6: =IF(OR(D6="",E6=""),"",MAX(0,D6-E6))
A7: 23 | B7: Galetes | C7: 1 | D7: 10 | E7: 4 | F7: =IF(OR(D7="",E7=""),"",MAX(0,D7-E7))
F8: =IF(OR(D8="",E8=""),"",MAX(0,D8-E8))
F9: =IF(OR(D9="",E9=""),"",MAX(0,D9-E9))
F10: =IF(OR(D10="",E10=""),"",MAX(0,D10-E10))
F11: =IF(OR(D11="",E11=""),"",MAX(0,D11-E11))
F12: =IF(OR(D12="",E12=""),"",MAX(0,D12-E12))
F13: =IF(OR(D13="",E13=""),"",MAX(0,D13-E13))
F14: =IF(OR(D14="",E14=""),"",MAX(0,D14-E14))
F15: =IF(OR(D15="",E15=""),"",MAX(0,D15-E15))
F16: =IF(OR(D16="",E16=""),"",MAX(0,D16-E16))
F17: =IF(OR(D17="",E17=""),"",MAX(0,D17-E17))
F18: =IF(OR(D18="",E18=""),"",MAX(0,D18-E18))
F19: =IF(OR(D19="",E19=""),"",MAX(0,D19-E19))
... F41: =IF(OR(D41="",E41=""),"",MAX(0,D41-E41))

Sheet Màquina 2
A1: Cel·la | B1: Producte | C1: Preu | D1: Capacitat | E1: En queden | F1: A carregar
A2: A1 | B2: Aigua 50 cl | C2: 1 | D2: 8 | E2: 1 | F2: =IF(OR(D2="",E2=""),"",MAX(0,D2-E2))
A3: A2 | B3: Refresc de cola, llauna | C3: 1.3 | D3: 8 | E3: 5 | F3: =IF(OR(D3="",E3=""),"",MAX(0,D3-E3))
A4: B1 | B4: Patates fregides | C4: 1.1 | D4: 10 | E4: 2 | F4: =IF(OR(D4="",E4=""),"",MAX(0,D4-E4))
A5: B2 | B5: Galetes | C5: 1 | D5: 10 | E5: 7 | F5: =IF(OR(D5="",E5=""),"",MAX(0,D5-E5))
F6: =IF(OR(D6="",E6=""),"",MAX(0,D6-E6))
F7: =IF(OR(D7="",E7=""),"",MAX(0,D7-E7))
F8: =IF(OR(D8="",E8=""),"",MAX(0,D8-E8))
F9: =IF(OR(D9="",E9=""),"",MAX(0,D9-E9))
F10: =IF(OR(D10="",E10=""),"",MAX(0,D10-E10))
F11: =IF(OR(D11="",E11=""),"",MAX(0,D11-E11))
F12: =IF(OR(D12="",E12=""),"",MAX(0,D12-E12))
F13: =IF(OR(D13="",E13=""),"",MAX(0,D13-E13))
F14: =IF(OR(D14="",E14=""),"",MAX(0,D14-E14))
F15: =IF(OR(D15="",E15=""),"",MAX(0,D15-E15))
F16: =IF(OR(D16="",E16=""),"",MAX(0,D16-E16))
F17: =IF(OR(D17="",E17=""),"",MAX(0,D17-E17))
... F41: =IF(OR(D41="",E41=""),"",MAX(0,D41-E41))

Sheet Màquina 3
A1: Cel·la | B1: Producte | C1: Preu | D1: Capacitat | E1: En queden | F1: A carregar
F2: =IF(OR(D2="",E2=""),"",MAX(0,D2-E2))
F3: =IF(OR(D3="",E3=""),"",MAX(0,D3-E3))
F4: =IF(OR(D4="",E4=""),"",MAX(0,D4-E4))
F5: =IF(OR(D5="",E5=""),"",MAX(0,D5-E5))
F6: =IF(OR(D6="",E6=""),"",MAX(0,D6-E6))
F7: =IF(OR(D7="",E7=""),"",MAX(0,D7-E7))
F8: =IF(OR(D8="",E8=""),"",MAX(0,D8-E8))
F9: =IF(OR(D9="",E9=""),"",MAX(0,D9-E9))
F10: =IF(OR(D10="",E10=""),"",MAX(0,D10-E10))
F11: =IF(OR(D11="",E11=""),"",MAX(0,D11-E11))
F12: =IF(OR(D12="",E12=""),"",MAX(0,D12-E12))
F13: =IF(OR(D13="",E13=""),"",MAX(0,D13-E13))
... F41: =IF(OR(D41="",E41=""),"",MAX(0,D41-E41))

Sheet Màquina 4
A1: Cel·la | B1: Producte | C1: Preu | D1: Capacitat | E1: En queden | F1: A carregar
F2: =IF(OR(D2="",E2=""),"",MAX(0,D2-E2))
F3: =IF(OR(D3="",E3=""),"",MAX(0,D3-E3))
F4: =IF(OR(D4="",E4=""),"",MAX(0,D4-E4))
F5: =IF(OR(D5="",E5=""),"",MAX(0,D5-E5))
F6: =IF(OR(D6="",E6=""),"",MAX(0,D6-E6))
F7: =IF(OR(D7="",E7=""),"",MAX(0,D7-E7))
F8: =IF(OR(D8="",E8=""),"",MAX(0,D8-E8))
F9: =IF(OR(D9="",E9=""),"",MAX(0,D9-E9))
F10: =IF(OR(D10="",E10=""),"",MAX(0,D10-E10))
F11: =IF(OR(D11="",E11=""),"",MAX(0,D11-E11))
F12: =IF(OR(D12="",E12=""),"",MAX(0,D12-E12))
F13: =IF(OR(D13="",E13=""),"",MAX(0,D13-E13))
... F41: =IF(OR(D41="",E41=""),"",MAX(0,D41-E41))
