Workbook

Sheet Anleitung
B2: Vorlage: Ladeliste für Verkaufsautomaten
B4: Wozu sie dient: Vor der Abfahrt wissen, wie viele Stück jedes Produkts du für die Automaten von heute aus dem Lager holen musst.
B5: 1. Trage unter „Produkte“ einmal ein, was du verkaufst und wie viele Stück ein Karton hat.
B6: 2. In jedem Blatt „Automat“ eine Zeile pro Fach: die Fachnummer, das Produkt (aus der Liste wählen), der Preis und die Kapazität.
B7: 3. Am Tourtag trägst du unter „Noch drin“ ein, was in jedem Fach noch ist (oder was du schätzt), und die Spalte „Nachfüllen“ füllt sich selbst.
B8: 4. In „Ladeliste“ setzt du „Ja“ unter die Automaten, die du heute anfährst: Sie zählt zusammen, was bei jedem Produkt fehlt, und sagt dir, wie viele volle Kartons und Einzelstücke du mitnimmst.
B9: Die Blätter enthalten ein erfundenes Beispiel in „Automat 1“ und „Automat 2“: lösche es und trage deine Daten ein. Für mehr Automaten ein Blatt „Automat“ duplizieren und seine Spalte in „Ladeliste“ ergänzen.
B11: Kostenlose Vorlage von Repónlo · Die Ladeliste, automatisch nach dem Abverkauf jedes Fachs: reponlo.com/de/ (kostenlos für einen Automaten)

Sheet Ladeliste
A1: Ladeliste für heute
A3: Heute dran? | B3: Automat 1 | C3: Automat 2 | D3: Automat 3 | E3: Automat 4
B4: Ja | C4: Ja | D4: Nein | E4: Nein
A6: Produkt | B6: Stück zu laden | C6: Volle Kartons | D6: Einzelstück
A7: =IF('Produkte'!A2="","",'Produkte'!A2) | B7: =IF($A7="","",IF(B$4="Ja",SUMIF('Automat 1'!$B$2:$B$41,$A7,'Automat 1'!$F$2:$F$41),0)+IF(C$4="Ja",SUMIF('Automat 2'!$B$2:$B$41,$A7,'Automat 2'!$F$2:$F$41),0)+IF(D$4="Ja",SUMIF('Automat 3'!$B$2:$B$41,$A7,'Automat 3'!$F$2:$F$41),0)+IF(E$4="Ja",SUMIF('Automat 4'!$B$2:$B$41,$A7,'Automat 4'!$F$2:$F$41),0)) | C7: =IF($A7="","",IF('Produkte'!B2>0,INT(B7/'Produkte'!B2),"")) | D7: =IF($A7="","",IF('Produkte'!B2>0,MOD(B7,'Produkte'!B2),""))
A8: =IF('Produkte'!A3="","",'Produkte'!A3) | B8: =IF($A8="","",IF(B$4="Ja",SUMIF('Automat 1'!$B$2:$B$41,$A8,'Automat 1'!$F$2:$F$41),0)+IF(C$4="Ja",SUMIF('Automat 2'!$B$2:$B$41,$A8,'Automat 2'!$F$2:$F$41),0)+IF(D$4="Ja",SUMIF('Automat 3'!$B$2:$B$41,$A8,'Automat 3'!$F$2:$F$41),0)+IF(E$4="Ja",SUMIF('Automat 4'!$B$2:$B$41,$A8,'Automat 4'!$F$2:$F$41),0)) | C8: =IF($A8="","",IF('Produkte'!B3>0,INT(B8/'Produkte'!B3),"")) | D8: =IF($A8="","",IF('Produkte'!B3>0,MOD(B8,'Produkte'!B3),""))
A9: =IF('Produkte'!A4="","",'Produkte'!A4) | B9: =IF($A9="","",IF(B$4="Ja",SUMIF('Automat 1'!$B$2:$B$41,$A9,'Automat 1'!$F$2:$F$41),0)+IF(C$4="Ja",SUMIF('Automat 2'!$B$2:$B$41,$A9,'Automat 2'!$F$2:$F$41),0)+IF(D$4="Ja",SUMIF('Automat 3'!$B$2:$B$41,$A9,'Automat 3'!$F$2:$F$41),0)+IF(E$4="Ja",SUMIF('Automat 4'!$B$2:$B$41,$A9,'Automat 4'!$F$2:$F$41),0)) | C9: =IF($A9="","",IF('Produkte'!B4>0,INT(B9/'Produkte'!B4),"")) | D9: =IF($A9="","",IF('Produkte'!B4>0,MOD(B9,'Produkte'!B4),""))
A10: =IF('Produkte'!A5="","",'Produkte'!A5) | B10: =IF($A10="","",IF(B$4="Ja",SUMIF('Automat 1'!$B$2:$B$41,$A10,'Automat 1'!$F$2:$F$41),0)+IF(C$4="Ja",SUMIF('Automat 2'!$B$2:$B$41,$A10,'Automat 2'!$F$2:$F$41),0)+IF(D$4="Ja",SUMIF('Automat 3'!$B$2:$B$41,$A10,'Automat 3'!$F$2:$F$41),0)+IF(E$4="Ja",SUMIF('Automat 4'!$B$2:$B$41,$A10,'Automat 4'!$F$2:$F$41),0)) | C10: =IF($A10="","",IF('Produkte'!B5>0,INT(B10/'Produkte'!B5),"")) | D10: =IF($A10="","",IF('Produkte'!B5>0,MOD(B10,'Produkte'!B5),""))
A11: =IF('Produkte'!A6="","",'Produkte'!A6) | B11: =IF($A11="","",IF(B$4="Ja",SUMIF('Automat 1'!$B$2:$B$41,$A11,'Automat 1'!$F$2:$F$41),0)+IF(C$4="Ja",SUMIF('Automat 2'!$B$2:$B$41,$A11,'Automat 2'!$F$2:$F$41),0)+IF(D$4="Ja",SUMIF('Automat 3'!$B$2:$B$41,$A11,'Automat 3'!$F$2:$F$41),0)+IF(E$4="Ja",SUMIF('Automat 4'!$B$2:$B$41,$A11,'Automat 4'!$F$2:$F$41),0)) | C11: =IF($A11="","",IF('Produkte'!B6>0,INT(B11/'Produkte'!B6),"")) | D11: =IF($A11="","",IF('Produkte'!B6>0,MOD(B11,'Produkte'!B6),""))
A12: =IF('Produkte'!A7="","",'Produkte'!A7) | B12: =IF($A12="","",IF(B$4="Ja",SUMIF('Automat 1'!$B$2:$B$41,$A12,'Automat 1'!$F$2:$F$41),0)+IF(C$4="Ja",SUMIF('Automat 2'!$B$2:$B$41,$A12,'Automat 2'!$F$2:$F$41),0)+IF(D$4="Ja",SUMIF('Automat 3'!$B$2:$B$41,$A12,'Automat 3'!$F$2:$F$41),0)+IF(E$4="Ja",SUMIF('Automat 4'!$B$2:$B$41,$A12,'Automat 4'!$F$2:$F$41),0)) | C12: =IF($A12="","",IF('Produkte'!B7>0,INT(B12/'Produkte'!B7),"")) | D12: =IF($A12="","",IF('Produkte'!B7>0,MOD(B12,'Produkte'!B7),""))
A13: =IF('Produkte'!A8="","",'Produkte'!A8) | B13: =IF($A13="","",IF(B$4="Ja",SUMIF('Automat 1'!$B$2:$B$41,$A13,'Automat 1'!$F$2:$F$41),0)+IF(C$4="Ja",SUMIF('Automat 2'!$B$2:$B$41,$A13,'Automat 2'!$F$2:$F$41),0)+IF(D$4="Ja",SUMIF('Automat 3'!$B$2:$B$41,$A13,'Automat 3'!$F$2:$F$41),0)+IF(E$4="Ja",SUMIF('Automat 4'!$B$2:$B$41,$A13,'Automat 4'!$F$2:$F$41),0)) | C13: =IF($A13="","",IF('Produkte'!B8>0,INT(B13/'Produkte'!B8),"")) | D13: =IF($A13="","",IF('Produkte'!B8>0,MOD(B13,'Produkte'!B8),""))
A14: =IF('Produkte'!A9="","",'Produkte'!A9) | B14: =IF($A14="","",IF(B$4="Ja",SUMIF('Automat 1'!$B$2:$B$41,$A14,'Automat 1'!$F$2:$F$41),0)+IF(C$4="Ja",SUMIF('Automat 2'!$B$2:$B$41,$A14,'Automat 2'!$F$2:$F$41),0)+IF(D$4="Ja",SUMIF('Automat 3'!$B$2:$B$41,$A14,'Automat 3'!$F$2:$F$41),0)+IF(E$4="Ja",SUMIF('Automat 4'!$B$2:$B$41,$A14,'Automat 4'!$F$2:$F$41),0)) | C14: =IF($A14="","",IF('Produkte'!B9>0,INT(B14/'Produkte'!B9),"")) | D14: =IF($A14="","",IF('Produkte'!B9>0,MOD(B14,'Produkte'!B9),""))
A15: =IF('Produkte'!A10="","",'Produkte'!A10) | B15: =IF($A15="","",IF(B$4="Ja",SUMIF('Automat 1'!$B$2:$B$41,$A15,'Automat 1'!$F$2:$F$41),0)+IF(C$4="Ja",SUMIF('Automat 2'!$B$2:$B$41,$A15,'Automat 2'!$F$2:$F$41),0)+IF(D$4="Ja",SUMIF('Automat 3'!$B$2:$B$41,$A15,'Automat 3'!$F$2:$F$41),0)+IF(E$4="Ja",SUMIF('Automat 4'!$B$2:$B$41,$A15,'Automat 4'!$F$2:$F$41),0)) | C15: =IF($A15="","",IF('Produkte'!B10>0,INT(B15/'Produkte'!B10),"")) | D15: =IF($A15="","",IF('Produkte'!B10>0,MOD(B15,'Produkte'!B10),""))
A16: =IF('Produkte'!A11="","",'Produkte'!A11) | B16: =IF($A16="","",IF(B$4="Ja",SUMIF('Automat 1'!$B$2:$B$41,$A16,'Automat 1'!$F$2:$F$41),0)+IF(C$4="Ja",SUMIF('Automat 2'!$B$2:$B$41,$A16,'Automat 2'!$F$2:$F$41),0)+IF(D$4="Ja",SUMIF('Automat 3'!$B$2:$B$41,$A16,'Automat 3'!$F$2:$F$41),0)+IF(E$4="Ja",SUMIF('Automat 4'!$B$2:$B$41,$A16,'Automat 4'!$F$2:$F$41),0)) | C16: =IF($A16="","",IF('Produkte'!B11>0,INT(B16/'Produkte'!B11),"")) | D16: =IF($A16="","",IF('Produkte'!B11>0,MOD(B16,'Produkte'!B11),""))
A17: =IF('Produkte'!A12="","",'Produkte'!A12) | B17: =IF($A17="","",IF(B$4="Ja",SUMIF('Automat 1'!$B$2:$B$41,$A17,'Automat 1'!$F$2:$F$41),0)+IF(C$4="Ja",SUMIF('Automat 2'!$B$2:$B$41,$A17,'Automat 2'!$F$2:$F$41),0)+IF(D$4="Ja",SUMIF('Automat 3'!$B$2:$B$41,$A17,'Automat 3'!$F$2:$F$41),0)+IF(E$4="Ja",SUMIF('Automat 4'!$B$2:$B$41,$A17,'Automat 4'!$F$2:$F$41),0)) | C17: =IF($A17="","",IF('Produkte'!B12>0,INT(B17/'Produkte'!B12),"")) | D17: =IF($A17="","",IF('Produkte'!B12>0,MOD(B17,'Produkte'!B12),""))
A18: =IF('Produkte'!A13="","",'Produkte'!A13) | B18: =IF($A18="","",IF(B$4="Ja",SUMIF('Automat 1'!$B$2:$B$41,$A18,'Automat 1'!$F$2:$F$41),0)+IF(C$4="Ja",SUMIF('Automat 2'!$B$2:$B$41,$A18,'Automat 2'!$F$2:$F$41),0)+IF(D$4="Ja",SUMIF('Automat 3'!$B$2:$B$41,$A18,'Automat 3'!$F$2:$F$41),0)+IF(E$4="Ja",SUMIF('Automat 4'!$B$2:$B$41,$A18,'Automat 4'!$F$2:$F$41),0)) | C18: =IF($A18="","",IF('Produkte'!B13>0,INT(B18/'Produkte'!B13),"")) | D18: =IF($A18="","",IF('Produkte'!B13>0,MOD(B18,'Produkte'!B13),""))
... A86: =IF('Produkte'!A81="","",'Produkte'!A81) | B86: =IF($A86="","",IF(B$4="Ja",SUMIF('Automat 1'!$B$2:$B$41,$A86,'Automat 1'!$F$2:$F$41),0)+IF(C$4="Ja",SUMIF('Automat 2'!$B$2:$B$41,$A86,'Automat 2'!$F$2:$F$41),0)+IF(D$4="Ja",SUMIF('Automat 3'!$B$2:$B$41,$A86,'Automat 3'!$F$2:$F$41),0)+IF(E$4="Ja",SUMIF('Automat 4'!$B$2:$B$41,$A86,'Automat 4'!$F$2:$F$41),0)) | C86: =IF($A86="","",IF('Produkte'!B81>0,INT(B86/'Produkte'!B81),"")) | D86: =IF($A86="","",IF('Produkte'!B81>0,MOD(B86,'Produkte'!B81),""))
A87: Summe | B87: =SUM(B7:B86)

Sheet Produkte
A1: Produkt | B1: Stück pro Karton | C1: Einkaufspreis (netto)
A2: Wasser 0,5 l | B2: 12 | C2: 0.18
A3: Cola, Dose | B3: 24 | C3: 0.42
A4: Orangensaft | B4: 12 | C4: 0.55
A5: Chips | B5: 20 | C5: 0.38
A6: Müsliriegel | B6: 24 | C6: 0.35
A7: Kekse | B7: 20 | C7: 0.3

Sheet Automat 1
A1: Fach | B1: Produkt | C1: Preis | D1: Kapazität | E1: Noch drin | F1: Nachfüllen
A2: 11 | B2: Wasser 0,5 l | C2: 1 | D2: 10 | E2: 3 | F2: =IF(OR(D2="",E2=""),"",MAX(0,D2-E2))
A3: 12 | B3: Cola, Dose | C3: 1.3 | D3: 8 | E3: 2 | F3: =IF(OR(D3="",E3=""),"",MAX(0,D3-E3))
A4: 13 | B4: Orangensaft | C4: 1.4 | D4: 8 | E4: 6 | F4: =IF(OR(D4="",E4=""),"",MAX(0,D4-E4))
A5: 21 | B5: Chips | C5: 1.1 | D5: 12 | E5: 5 | F5: =IF(OR(D5="",E5=""),"",MAX(0,D5-E5))
A6: 22 | B6: Müsliriegel | C6: 1.2 | D6: 10 | E6: 10 | F6: =IF(OR(D6="",E6=""),"",MAX(0,D6-E6))
A7: 23 | B7: Kekse | C7: 1 | D7: 10 | E7: 4 | F7: =IF(OR(D7="",E7=""),"",MAX(0,D7-E7))
F8: =IF(OR(D8="",E8=""),"",MAX(0,D8-E8))
F9: =IF(OR(D9="",E9=""),"",MAX(0,D9-E9))
F10: =IF(OR(D10="",E10=""),"",MAX(0,D10-E10))
F11: =IF(OR(D11="",E11=""),"",MAX(0,D11-E11))
F12: =IF(OR(D12="",E12=""),"",MAX(0,D12-E12))
F13: =IF(OR(D13="",E13=""),"",MAX(0,D13-E13))
F14: =IF(OR(D14="",E14=""),"",MAX(0,D14-E14))
F15: =IF(OR(D15="",E15=""),"",MAX(0,D15-E15))
F16: =IF(OR(D16="",E16=""),"",MAX(0,D16-E16))
F17: =IF(OR(D17="",E17=""),"",MAX(0,D17-E17))
F18: =IF(OR(D18="",E18=""),"",MAX(0,D18-E18))
F19: =IF(OR(D19="",E19=""),"",MAX(0,D19-E19))
... F41: =IF(OR(D41="",E41=""),"",MAX(0,D41-E41))

Sheet Automat 2
A1: Fach | B1: Produkt | C1: Preis | D1: Kapazität | E1: Noch drin | F1: Nachfüllen
A2: A1 | B2: Wasser 0,5 l | C2: 1 | D2: 8 | E2: 1 | F2: =IF(OR(D2="",E2=""),"",MAX(0,D2-E2))
A3: A2 | B3: Cola, Dose | C3: 1.3 | D3: 8 | E3: 5 | F3: =IF(OR(D3="",E3=""),"",MAX(0,D3-E3))
A4: B1 | B4: Chips | C4: 1.1 | D4: 10 | E4: 2 | F4: =IF(OR(D4="",E4=""),"",MAX(0,D4-E4))
A5: B2 | B5: Kekse | C5: 1 | D5: 10 | E5: 7 | F5: =IF(OR(D5="",E5=""),"",MAX(0,D5-E5))
F6: =IF(OR(D6="",E6=""),"",MAX(0,D6-E6))
F7: =IF(OR(D7="",E7=""),"",MAX(0,D7-E7))
F8: =IF(OR(D8="",E8=""),"",MAX(0,D8-E8))
F9: =IF(OR(D9="",E9=""),"",MAX(0,D9-E9))
F10: =IF(OR(D10="",E10=""),"",MAX(0,D10-E10))
F11: =IF(OR(D11="",E11=""),"",MAX(0,D11-E11))
F12: =IF(OR(D12="",E12=""),"",MAX(0,D12-E12))
F13: =IF(OR(D13="",E13=""),"",MAX(0,D13-E13))
F14: =IF(OR(D14="",E14=""),"",MAX(0,D14-E14))
F15: =IF(OR(D15="",E15=""),"",MAX(0,D15-E15))
F16: =IF(OR(D16="",E16=""),"",MAX(0,D16-E16))
F17: =IF(OR(D17="",E17=""),"",MAX(0,D17-E17))
... F41: =IF(OR(D41="",E41=""),"",MAX(0,D41-E41))

Sheet Automat 3
A1: Fach | B1: Produkt | C1: Preis | D1: Kapazität | E1: Noch drin | F1: Nachfüllen
F2: =IF(OR(D2="",E2=""),"",MAX(0,D2-E2))
F3: =IF(OR(D3="",E3=""),"",MAX(0,D3-E3))
F4: =IF(OR(D4="",E4=""),"",MAX(0,D4-E4))
F5: =IF(OR(D5="",E5=""),"",MAX(0,D5-E5))
F6: =IF(OR(D6="",E6=""),"",MAX(0,D6-E6))
F7: =IF(OR(D7="",E7=""),"",MAX(0,D7-E7))
F8: =IF(OR(D8="",E8=""),"",MAX(0,D8-E8))
F9: =IF(OR(D9="",E9=""),"",MAX(0,D9-E9))
F10: =IF(OR(D10="",E10=""),"",MAX(0,D10-E10))
F11: =IF(OR(D11="",E11=""),"",MAX(0,D11-E11))
F12: =IF(OR(D12="",E12=""),"",MAX(0,D12-E12))
F13: =IF(OR(D13="",E13=""),"",MAX(0,D13-E13))
... F41: =IF(OR(D41="",E41=""),"",MAX(0,D41-E41))

Sheet Automat 4
A1: Fach | B1: Produkt | C1: Preis | D1: Kapazität | E1: Noch drin | F1: Nachfüllen
F2: =IF(OR(D2="",E2=""),"",MAX(0,D2-E2))
F3: =IF(OR(D3="",E3=""),"",MAX(0,D3-E3))
F4: =IF(OR(D4="",E4=""),"",MAX(0,D4-E4))
F5: =IF(OR(D5="",E5=""),"",MAX(0,D5-E5))
F6: =IF(OR(D6="",E6=""),"",MAX(0,D6-E6))
F7: =IF(OR(D7="",E7=""),"",MAX(0,D7-E7))
F8: =IF(OR(D8="",E8=""),"",MAX(0,D8-E8))
F9: =IF(OR(D9="",E9=""),"",MAX(0,D9-E9))
F10: =IF(OR(D10="",E10=""),"",MAX(0,D10-E10))
F11: =IF(OR(D11="",E11=""),"",MAX(0,D11-E11))
F12: =IF(OR(D12="",E12=""),"",MAX(0,D12-E12))
F13: =IF(OR(D13="",E13=""),"",MAX(0,D13-E13))
... F41: =IF(OR(D41="",E41=""),"",MAX(0,D41-E41))
