Workbook

Sheet How to use it
B2: Vending machine cash collection sheet
B4: What it's for: knowing whether the cash adds up every time you empty a machine, and keeping track of what each machine takes.
B5: 1. In «Collections», one row each time you take the money out: the date, the machine and both cash counters (the sales total the machine shows).
B6: 2. «Previous counter» is the «Current counter» of that same machine's previous collection.
B7: 3. Enter what was paid by card in that period (your payment provider tells you) and the cash you counted.
B8: 4. The sheet works out the cash there should be and the difference: red if more is missing than you accept, amber if there is extra.
B9: 5. «Summary by machine» adds up each machine: write the names exactly as you use them in «Collections».
B10: It comes with three made-up example rows: delete them and enter your own. If you forgot to record a collection, the next one will add up both periods.
B12: Free template from Repónlo · How much cash there should be, worked out at every visit: reponlo.com/en/ (free for one machine)

Sheet Collections
A1: Vending machine cash collection sheet
A2: Difference you accept | D2: 2
A4: Date | B4: Machine | C4: Previous counter | D4: Current counter | E4: Sold according to counter | F4: Paid by card | G4: Cash there should be | H4: Cash counted | I4: Difference | J4: Notes
A5: 46268 | B5: Gym | C5: 12430 | D5: 12870 | E5: =IF(OR(C5="",D5=""),"",D5-C5) | F5: 95 | G5: =IF(E5="","",E5-F5) | H5: 338 | I5: =IF(OR(G5="",H5=""),"",H5-G5)
A6: 46268 | B6: Office | C6: 8120.5 | D6: 8402.5 | E6: =IF(OR(C6="",D6=""),"",D6-C6) | F6: 61.5 | G6: =IF(E6="","",E6-F6) | H6: 220.5 | I6: =IF(OR(G6="",H6=""),"",H6-G6)
A7: 46282 | B7: Gym | C7: 12870 | D7: 13295 | E7: =IF(OR(C7="",D7=""),"",D7-C7) | F7: 88 | G7: =IF(E7="","",E7-F7) | H7: 337 | I7: =IF(OR(G7="",H7=""),"",H7-G7)
E8: =IF(OR(C8="",D8=""),"",D8-C8) | G8: =IF(E8="","",E8-F8) | I8: =IF(OR(G8="",H8=""),"",H8-G8)
E9: =IF(OR(C9="",D9=""),"",D9-C9) | G9: =IF(E9="","",E9-F9) | I9: =IF(OR(G9="",H9=""),"",H9-G9)
E10: =IF(OR(C10="",D10=""),"",D10-C10) | G10: =IF(E10="","",E10-F10) | I10: =IF(OR(G10="",H10=""),"",H10-G10)
E11: =IF(OR(C11="",D11=""),"",D11-C11) | G11: =IF(E11="","",E11-F11) | I11: =IF(OR(G11="",H11=""),"",H11-G11)
E12: =IF(OR(C12="",D12=""),"",D12-C12) | G12: =IF(E12="","",E12-F12) | I12: =IF(OR(G12="",H12=""),"",H12-G12)
E13: =IF(OR(C13="",D13=""),"",D13-C13) | G13: =IF(E13="","",E13-F13) | I13: =IF(OR(G13="",H13=""),"",H13-G13)
E14: =IF(OR(C14="",D14=""),"",D14-C14) | G14: =IF(E14="","",E14-F14) | I14: =IF(OR(G14="",H14=""),"",H14-G14)
E15: =IF(OR(C15="",D15=""),"",D15-C15) | G15: =IF(E15="","",E15-F15) | I15: =IF(OR(G15="",H15=""),"",H15-G15)
E16: =IF(OR(C16="",D16=""),"",D16-C16) | G16: =IF(E16="","",E16-F16) | I16: =IF(OR(G16="",H16=""),"",H16-G16)
E17: =IF(OR(C17="",D17=""),"",D17-C17) | G17: =IF(E17="","",E17-F17) | I17: =IF(OR(G17="",H17=""),"",H17-G17)
E18: =IF(OR(C18="",D18=""),"",D18-C18) | G18: =IF(E18="","",E18-F18) | I18: =IF(OR(G18="",H18=""),"",H18-G18)
E19: =IF(OR(C19="",D19=""),"",D19-C19) | G19: =IF(E19="","",E19-F19) | I19: =IF(OR(G19="",H19=""),"",H19-G19)
... E304: =IF(OR(C304="",D304=""),"",D304-C304) | G304: =IF(E304="","",E304-F304) | I304: =IF(OR(G304="",H304=""),"",H304-G304)

Sheet Summary by machine
A1: Summary by machine
A3: Machine | B3: Collections | C3: Sold according to counter | D3: Paid by card | E3: Cash counted | F3: Difference
A4: Gym | B4: =IF(A4="","",COUNTIF('Collections'!$B$5:$B$304,A4)) | C4: =IF(A4="","",SUMIF('Collections'!$B$5:$B$304,A4,'Collections'!$E$5:$E$304)) | D4: =IF(A4="","",SUMIF('Collections'!$B$5:$B$304,A4,'Collections'!$F$5:$F$304)) | E4: =IF(A4="","",SUMIF('Collections'!$B$5:$B$304,A4,'Collections'!$H$5:$H$304)) | F4: =IF(A4="","",SUMIF('Collections'!$B$5:$B$304,A4,'Collections'!$I$5:$I$304))
A5: Office | B5: =IF(A5="","",COUNTIF('Collections'!$B$5:$B$304,A5)) | C5: =IF(A5="","",SUMIF('Collections'!$B$5:$B$304,A5,'Collections'!$E$5:$E$304)) | D5: =IF(A5="","",SUMIF('Collections'!$B$5:$B$304,A5,'Collections'!$F$5:$F$304)) | E5: =IF(A5="","",SUMIF('Collections'!$B$5:$B$304,A5,'Collections'!$H$5:$H$304)) | F5: =IF(A5="","",SUMIF('Collections'!$B$5:$B$304,A5,'Collections'!$I$5:$I$304))
B6: =IF(A6="","",COUNTIF('Collections'!$B$5:$B$304,A6)) | C6: =IF(A6="","",SUMIF('Collections'!$B$5:$B$304,A6,'Collections'!$E$5:$E$304)) | D6: =IF(A6="","",SUMIF('Collections'!$B$5:$B$304,A6,'Collections'!$F$5:$F$304)) | E6: =IF(A6="","",SUMIF('Collections'!$B$5:$B$304,A6,'Collections'!$H$5:$H$304)) | F6: =IF(A6="","",SUMIF('Collections'!$B$5:$B$304,A6,'Collections'!$I$5:$I$304))
B7: =IF(A7="","",COUNTIF('Collections'!$B$5:$B$304,A7)) | C7: =IF(A7="","",SUMIF('Collections'!$B$5:$B$304,A7,'Collections'!$E$5:$E$304)) | D7: =IF(A7="","",SUMIF('Collections'!$B$5:$B$304,A7,'Collections'!$F$5:$F$304)) | E7: =IF(A7="","",SUMIF('Collections'!$B$5:$B$304,A7,'Collections'!$H$5:$H$304)) | F7: =IF(A7="","",SUMIF('Collections'!$B$5:$B$304,A7,'Collections'!$I$5:$I$304))
B8: =IF(A8="","",COUNTIF('Collections'!$B$5:$B$304,A8)) | C8: =IF(A8="","",SUMIF('Collections'!$B$5:$B$304,A8,'Collections'!$E$5:$E$304)) | D8: =IF(A8="","",SUMIF('Collections'!$B$5:$B$304,A8,'Collections'!$F$5:$F$304)) | E8: =IF(A8="","",SUMIF('Collections'!$B$5:$B$304,A8,'Collections'!$H$5:$H$304)) | F8: =IF(A8="","",SUMIF('Collections'!$B$5:$B$304,A8,'Collections'!$I$5:$I$304))
B9: =IF(A9="","",COUNTIF('Collections'!$B$5:$B$304,A9)) | C9: =IF(A9="","",SUMIF('Collections'!$B$5:$B$304,A9,'Collections'!$E$5:$E$304)) | D9: =IF(A9="","",SUMIF('Collections'!$B$5:$B$304,A9,'Collections'!$F$5:$F$304)) | E9: =IF(A9="","",SUMIF('Collections'!$B$5:$B$304,A9,'Collections'!$H$5:$H$304)) | F9: =IF(A9="","",SUMIF('Collections'!$B$5:$B$304,A9,'Collections'!$I$5:$I$304))
B10: =IF(A10="","",COUNTIF('Collections'!$B$5:$B$304,A10)) | C10: =IF(A10="","",SUMIF('Collections'!$B$5:$B$304,A10,'Collections'!$E$5:$E$304)) | D10: =IF(A10="","",SUMIF('Collections'!$B$5:$B$304,A10,'Collections'!$F$5:$F$304)) | E10: =IF(A10="","",SUMIF('Collections'!$B$5:$B$304,A10,'Collections'!$H$5:$H$304)) | F10: =IF(A10="","",SUMIF('Collections'!$B$5:$B$304,A10,'Collections'!$I$5:$I$304))
B11: =IF(A11="","",COUNTIF('Collections'!$B$5:$B$304,A11)) | C11: =IF(A11="","",SUMIF('Collections'!$B$5:$B$304,A11,'Collections'!$E$5:$E$304)) | D11: =IF(A11="","",SUMIF('Collections'!$B$5:$B$304,A11,'Collections'!$F$5:$F$304)) | E11: =IF(A11="","",SUMIF('Collections'!$B$5:$B$304,A11,'Collections'!$H$5:$H$304)) | F11: =IF(A11="","",SUMIF('Collections'!$B$5:$B$304,A11,'Collections'!$I$5:$I$304))
B12: =IF(A12="","",COUNTIF('Collections'!$B$5:$B$304,A12)) | C12: =IF(A12="","",SUMIF('Collections'!$B$5:$B$304,A12,'Collections'!$E$5:$E$304)) | D12: =IF(A12="","",SUMIF('Collections'!$B$5:$B$304,A12,'Collections'!$F$5:$F$304)) | E12: =IF(A12="","",SUMIF('Collections'!$B$5:$B$304,A12,'Collections'!$H$5:$H$304)) | F12: =IF(A12="","",SUMIF('Collections'!$B$5:$B$304,A12,'Collections'!$I$5:$I$304))
B13: =IF(A13="","",COUNTIF('Collections'!$B$5:$B$304,A13)) | C13: =IF(A13="","",SUMIF('Collections'!$B$5:$B$304,A13,'Collections'!$E$5:$E$304)) | D13: =IF(A13="","",SUMIF('Collections'!$B$5:$B$304,A13,'Collections'!$F$5:$F$304)) | E13: =IF(A13="","",SUMIF('Collections'!$B$5:$B$304,A13,'Collections'!$H$5:$H$304)) | F13: =IF(A13="","",SUMIF('Collections'!$B$5:$B$304,A13,'Collections'!$I$5:$I$304))
B14: =IF(A14="","",COUNTIF('Collections'!$B$5:$B$304,A14)) | C14: =IF(A14="","",SUMIF('Collections'!$B$5:$B$304,A14,'Collections'!$E$5:$E$304)) | D14: =IF(A14="","",SUMIF('Collections'!$B$5:$B$304,A14,'Collections'!$F$5:$F$304)) | E14: =IF(A14="","",SUMIF('Collections'!$B$5:$B$304,A14,'Collections'!$H$5:$H$304)) | F14: =IF(A14="","",SUMIF('Collections'!$B$5:$B$304,A14,'Collections'!$I$5:$I$304))
B15: =IF(A15="","",COUNTIF('Collections'!$B$5:$B$304,A15)) | C15: =IF(A15="","",SUMIF('Collections'!$B$5:$B$304,A15,'Collections'!$E$5:$E$304)) | D15: =IF(A15="","",SUMIF('Collections'!$B$5:$B$304,A15,'Collections'!$F$5:$F$304)) | E15: =IF(A15="","",SUMIF('Collections'!$B$5:$B$304,A15,'Collections'!$H$5:$H$304)) | F15: =IF(A15="","",SUMIF('Collections'!$B$5:$B$304,A15,'Collections'!$I$5:$I$304))
B16: =IF(A16="","",COUNTIF('Collections'!$B$5:$B$304,A16)) | C16: =IF(A16="","",SUMIF('Collections'!$B$5:$B$304,A16,'Collections'!$E$5:$E$304)) | D16: =IF(A16="","",SUMIF('Collections'!$B$5:$B$304,A16,'Collections'!$F$5:$F$304)) | E16: =IF(A16="","",SUMIF('Collections'!$B$5:$B$304,A16,'Collections'!$H$5:$H$304)) | F16: =IF(A16="","",SUMIF('Collections'!$B$5:$B$304,A16,'Collections'!$I$5:$I$304))
B17: =IF(A17="","",COUNTIF('Collections'!$B$5:$B$304,A17)) | C17: =IF(A17="","",SUMIF('Collections'!$B$5:$B$304,A17,'Collections'!$E$5:$E$304)) | D17: =IF(A17="","",SUMIF('Collections'!$B$5:$B$304,A17,'Collections'!$F$5:$F$304)) | E17: =IF(A17="","",SUMIF('Collections'!$B$5:$B$304,A17,'Collections'!$H$5:$H$304)) | F17: =IF(A17="","",SUMIF('Collections'!$B$5:$B$304,A17,'Collections'!$I$5:$I$304))
... B23: =IF(A23="","",COUNTIF('Collections'!$B$5:$B$304,A23)) | C23: =IF(A23="","",SUMIF('Collections'!$B$5:$B$304,A23,'Collections'!$E$5:$E$304)) | D23: =IF(A23="","",SUMIF('Collections'!$B$5:$B$304,A23,'Collections'!$F$5:$F$304)) | E23: =IF(A23="","",SUMIF('Collections'!$B$5:$B$304,A23,'Collections'!$H$5:$H$304)) | F23: =IF(A23="","",SUMIF('Collections'!$B$5:$B$304,A23,'Collections'!$I$5:$I$304))
