Workbook

Sheet How to use it
B2: Vending load list template
B4: What it's for: knowing before you leave how many units of each product to take from the warehouse for the machines you visit today.
B5: 1. In «Products», write down once what you sell and how many units come in each case.
B6: 2. In each «Machine» sheet, one row per slot: the slot code, the product (pick it from the list), the price and the capacity.
B7: 3. On route day, enter in «Left» what is left in each slot (or what you estimate is left) and the «To load» column fills itself in.
B8: 4. In «Load list», put «Yes» under the machines you visit today: it adds up what each product is missing and tells you how many full cases and loose units to take.
B9: The sheets come with a made-up example in «Machine 1» and «Machine 2»: delete it and enter your own. For more machines, duplicate a «Machine» sheet and add its column in «Load list».
B11: Free template from Repónlo · The load list done for you, using the sales rate of each slot: reponlo.com/en/ (free for one machine)

Sheet Load list
A1: Today's load list
A3: Visiting today? | B3: Machine 1 | C3: Machine 2 | D3: Machine 3 | E3: Machine 4
B4: Yes | C4: Yes | D4: No | E4: No
A6: Product | B6: Units to load | C6: Full cases | D6: Loose units
A7: =IF('Products'!A2="","",'Products'!A2) | B7: =IF($A7="","",IF(B$4="Yes",SUMIF('Machine 1'!$B$2:$B$41,$A7,'Machine 1'!$F$2:$F$41),0)+IF(C$4="Yes",SUMIF('Machine 2'!$B$2:$B$41,$A7,'Machine 2'!$F$2:$F$41),0)+IF(D$4="Yes",SUMIF('Machine 3'!$B$2:$B$41,$A7,'Machine 3'!$F$2:$F$41),0)+IF(E$4="Yes",SUMIF('Machine 4'!$B$2:$B$41,$A7,'Machine 4'!$F$2:$F$41),0)) | C7: =IF($A7="","",IF('Products'!B2>0,INT(B7/'Products'!B2),"")) | D7: =IF($A7="","",IF('Products'!B2>0,MOD(B7,'Products'!B2),""))
A8: =IF('Products'!A3="","",'Products'!A3) | B8: =IF($A8="","",IF(B$4="Yes",SUMIF('Machine 1'!$B$2:$B$41,$A8,'Machine 1'!$F$2:$F$41),0)+IF(C$4="Yes",SUMIF('Machine 2'!$B$2:$B$41,$A8,'Machine 2'!$F$2:$F$41),0)+IF(D$4="Yes",SUMIF('Machine 3'!$B$2:$B$41,$A8,'Machine 3'!$F$2:$F$41),0)+IF(E$4="Yes",SUMIF('Machine 4'!$B$2:$B$41,$A8,'Machine 4'!$F$2:$F$41),0)) | C8: =IF($A8="","",IF('Products'!B3>0,INT(B8/'Products'!B3),"")) | D8: =IF($A8="","",IF('Products'!B3>0,MOD(B8,'Products'!B3),""))
A9: =IF('Products'!A4="","",'Products'!A4) | B9: =IF($A9="","",IF(B$4="Yes",SUMIF('Machine 1'!$B$2:$B$41,$A9,'Machine 1'!$F$2:$F$41),0)+IF(C$4="Yes",SUMIF('Machine 2'!$B$2:$B$41,$A9,'Machine 2'!$F$2:$F$41),0)+IF(D$4="Yes",SUMIF('Machine 3'!$B$2:$B$41,$A9,'Machine 3'!$F$2:$F$41),0)+IF(E$4="Yes",SUMIF('Machine 4'!$B$2:$B$41,$A9,'Machine 4'!$F$2:$F$41),0)) | C9: =IF($A9="","",IF('Products'!B4>0,INT(B9/'Products'!B4),"")) | D9: =IF($A9="","",IF('Products'!B4>0,MOD(B9,'Products'!B4),""))
A10: =IF('Products'!A5="","",'Products'!A5) | B10: =IF($A10="","",IF(B$4="Yes",SUMIF('Machine 1'!$B$2:$B$41,$A10,'Machine 1'!$F$2:$F$41),0)+IF(C$4="Yes",SUMIF('Machine 2'!$B$2:$B$41,$A10,'Machine 2'!$F$2:$F$41),0)+IF(D$4="Yes",SUMIF('Machine 3'!$B$2:$B$41,$A10,'Machine 3'!$F$2:$F$41),0)+IF(E$4="Yes",SUMIF('Machine 4'!$B$2:$B$41,$A10,'Machine 4'!$F$2:$F$41),0)) | C10: =IF($A10="","",IF('Products'!B5>0,INT(B10/'Products'!B5),"")) | D10: =IF($A10="","",IF('Products'!B5>0,MOD(B10,'Products'!B5),""))
A11: =IF('Products'!A6="","",'Products'!A6) | B11: =IF($A11="","",IF(B$4="Yes",SUMIF('Machine 1'!$B$2:$B$41,$A11,'Machine 1'!$F$2:$F$41),0)+IF(C$4="Yes",SUMIF('Machine 2'!$B$2:$B$41,$A11,'Machine 2'!$F$2:$F$41),0)+IF(D$4="Yes",SUMIF('Machine 3'!$B$2:$B$41,$A11,'Machine 3'!$F$2:$F$41),0)+IF(E$4="Yes",SUMIF('Machine 4'!$B$2:$B$41,$A11,'Machine 4'!$F$2:$F$41),0)) | C11: =IF($A11="","",IF('Products'!B6>0,INT(B11/'Products'!B6),"")) | D11: =IF($A11="","",IF('Products'!B6>0,MOD(B11,'Products'!B6),""))
A12: =IF('Products'!A7="","",'Products'!A7) | B12: =IF($A12="","",IF(B$4="Yes",SUMIF('Machine 1'!$B$2:$B$41,$A12,'Machine 1'!$F$2:$F$41),0)+IF(C$4="Yes",SUMIF('Machine 2'!$B$2:$B$41,$A12,'Machine 2'!$F$2:$F$41),0)+IF(D$4="Yes",SUMIF('Machine 3'!$B$2:$B$41,$A12,'Machine 3'!$F$2:$F$41),0)+IF(E$4="Yes",SUMIF('Machine 4'!$B$2:$B$41,$A12,'Machine 4'!$F$2:$F$41),0)) | C12: =IF($A12="","",IF('Products'!B7>0,INT(B12/'Products'!B7),"")) | D12: =IF($A12="","",IF('Products'!B7>0,MOD(B12,'Products'!B7),""))
A13: =IF('Products'!A8="","",'Products'!A8) | B13: =IF($A13="","",IF(B$4="Yes",SUMIF('Machine 1'!$B$2:$B$41,$A13,'Machine 1'!$F$2:$F$41),0)+IF(C$4="Yes",SUMIF('Machine 2'!$B$2:$B$41,$A13,'Machine 2'!$F$2:$F$41),0)+IF(D$4="Yes",SUMIF('Machine 3'!$B$2:$B$41,$A13,'Machine 3'!$F$2:$F$41),0)+IF(E$4="Yes",SUMIF('Machine 4'!$B$2:$B$41,$A13,'Machine 4'!$F$2:$F$41),0)) | C13: =IF($A13="","",IF('Products'!B8>0,INT(B13/'Products'!B8),"")) | D13: =IF($A13="","",IF('Products'!B8>0,MOD(B13,'Products'!B8),""))
A14: =IF('Products'!A9="","",'Products'!A9) | B14: =IF($A14="","",IF(B$4="Yes",SUMIF('Machine 1'!$B$2:$B$41,$A14,'Machine 1'!$F$2:$F$41),0)+IF(C$4="Yes",SUMIF('Machine 2'!$B$2:$B$41,$A14,'Machine 2'!$F$2:$F$41),0)+IF(D$4="Yes",SUMIF('Machine 3'!$B$2:$B$41,$A14,'Machine 3'!$F$2:$F$41),0)+IF(E$4="Yes",SUMIF('Machine 4'!$B$2:$B$41,$A14,'Machine 4'!$F$2:$F$41),0)) | C14: =IF($A14="","",IF('Products'!B9>0,INT(B14/'Products'!B9),"")) | D14: =IF($A14="","",IF('Products'!B9>0,MOD(B14,'Products'!B9),""))
A15: =IF('Products'!A10="","",'Products'!A10) | B15: =IF($A15="","",IF(B$4="Yes",SUMIF('Machine 1'!$B$2:$B$41,$A15,'Machine 1'!$F$2:$F$41),0)+IF(C$4="Yes",SUMIF('Machine 2'!$B$2:$B$41,$A15,'Machine 2'!$F$2:$F$41),0)+IF(D$4="Yes",SUMIF('Machine 3'!$B$2:$B$41,$A15,'Machine 3'!$F$2:$F$41),0)+IF(E$4="Yes",SUMIF('Machine 4'!$B$2:$B$41,$A15,'Machine 4'!$F$2:$F$41),0)) | C15: =IF($A15="","",IF('Products'!B10>0,INT(B15/'Products'!B10),"")) | D15: =IF($A15="","",IF('Products'!B10>0,MOD(B15,'Products'!B10),""))
A16: =IF('Products'!A11="","",'Products'!A11) | B16: =IF($A16="","",IF(B$4="Yes",SUMIF('Machine 1'!$B$2:$B$41,$A16,'Machine 1'!$F$2:$F$41),0)+IF(C$4="Yes",SUMIF('Machine 2'!$B$2:$B$41,$A16,'Machine 2'!$F$2:$F$41),0)+IF(D$4="Yes",SUMIF('Machine 3'!$B$2:$B$41,$A16,'Machine 3'!$F$2:$F$41),0)+IF(E$4="Yes",SUMIF('Machine 4'!$B$2:$B$41,$A16,'Machine 4'!$F$2:$F$41),0)) | C16: =IF($A16="","",IF('Products'!B11>0,INT(B16/'Products'!B11),"")) | D16: =IF($A16="","",IF('Products'!B11>0,MOD(B16,'Products'!B11),""))
A17: =IF('Products'!A12="","",'Products'!A12) | B17: =IF($A17="","",IF(B$4="Yes",SUMIF('Machine 1'!$B$2:$B$41,$A17,'Machine 1'!$F$2:$F$41),0)+IF(C$4="Yes",SUMIF('Machine 2'!$B$2:$B$41,$A17,'Machine 2'!$F$2:$F$41),0)+IF(D$4="Yes",SUMIF('Machine 3'!$B$2:$B$41,$A17,'Machine 3'!$F$2:$F$41),0)+IF(E$4="Yes",SUMIF('Machine 4'!$B$2:$B$41,$A17,'Machine 4'!$F$2:$F$41),0)) | C17: =IF($A17="","",IF('Products'!B12>0,INT(B17/'Products'!B12),"")) | D17: =IF($A17="","",IF('Products'!B12>0,MOD(B17,'Products'!B12),""))
A18: =IF('Products'!A13="","",'Products'!A13) | B18: =IF($A18="","",IF(B$4="Yes",SUMIF('Machine 1'!$B$2:$B$41,$A18,'Machine 1'!$F$2:$F$41),0)+IF(C$4="Yes",SUMIF('Machine 2'!$B$2:$B$41,$A18,'Machine 2'!$F$2:$F$41),0)+IF(D$4="Yes",SUMIF('Machine 3'!$B$2:$B$41,$A18,'Machine 3'!$F$2:$F$41),0)+IF(E$4="Yes",SUMIF('Machine 4'!$B$2:$B$41,$A18,'Machine 4'!$F$2:$F$41),0)) | C18: =IF($A18="","",IF('Products'!B13>0,INT(B18/'Products'!B13),"")) | D18: =IF($A18="","",IF('Products'!B13>0,MOD(B18,'Products'!B13),""))
... A86: =IF('Products'!A81="","",'Products'!A81) | B86: =IF($A86="","",IF(B$4="Yes",SUMIF('Machine 1'!$B$2:$B$41,$A86,'Machine 1'!$F$2:$F$41),0)+IF(C$4="Yes",SUMIF('Machine 2'!$B$2:$B$41,$A86,'Machine 2'!$F$2:$F$41),0)+IF(D$4="Yes",SUMIF('Machine 3'!$B$2:$B$41,$A86,'Machine 3'!$F$2:$F$41),0)+IF(E$4="Yes",SUMIF('Machine 4'!$B$2:$B$41,$A86,'Machine 4'!$F$2:$F$41),0)) | C86: =IF($A86="","",IF('Products'!B81>0,INT(B86/'Products'!B81),"")) | D86: =IF($A86="","",IF('Products'!B81>0,MOD(B86,'Products'!B81),""))
A87: Total | B87: =SUM(B7:B86)

Sheet Products
A1: Product | B1: Units per case | C1: Purchase price (excl. VAT)
A2: Water 50 cl | B2: 12 | C2: 0.18
A3: Cola, can | B3: 24 | C3: 0.42
A4: Orange juice | B4: 12 | C4: 0.55
A5: Crisps | B5: 20 | C5: 0.38
A6: Cereal bar | B6: 24 | C6: 0.35
A7: Biscuits | B7: 20 | C7: 0.3

Sheet Machine 1
A1: Slot | B1: Product | C1: Price | D1: Capacity | E1: Left | F1: To load
A2: 11 | B2: Water 50 cl | C2: 1 | D2: 10 | E2: 3 | F2: =IF(OR(D2="",E2=""),"",MAX(0,D2-E2))
A3: 12 | B3: Cola, can | C3: 1.3 | D3: 8 | E3: 2 | F3: =IF(OR(D3="",E3=""),"",MAX(0,D3-E3))
A4: 13 | B4: Orange juice | C4: 1.4 | D4: 8 | E4: 6 | F4: =IF(OR(D4="",E4=""),"",MAX(0,D4-E4))
A5: 21 | B5: Crisps | C5: 1.1 | D5: 12 | E5: 5 | F5: =IF(OR(D5="",E5=""),"",MAX(0,D5-E5))
A6: 22 | B6: Cereal bar | C6: 1.2 | D6: 10 | E6: 10 | F6: =IF(OR(D6="",E6=""),"",MAX(0,D6-E6))
A7: 23 | B7: Biscuits | C7: 1 | D7: 10 | E7: 4 | F7: =IF(OR(D7="",E7=""),"",MAX(0,D7-E7))
F8: =IF(OR(D8="",E8=""),"",MAX(0,D8-E8))
F9: =IF(OR(D9="",E9=""),"",MAX(0,D9-E9))
F10: =IF(OR(D10="",E10=""),"",MAX(0,D10-E10))
F11: =IF(OR(D11="",E11=""),"",MAX(0,D11-E11))
F12: =IF(OR(D12="",E12=""),"",MAX(0,D12-E12))
F13: =IF(OR(D13="",E13=""),"",MAX(0,D13-E13))
F14: =IF(OR(D14="",E14=""),"",MAX(0,D14-E14))
F15: =IF(OR(D15="",E15=""),"",MAX(0,D15-E15))
F16: =IF(OR(D16="",E16=""),"",MAX(0,D16-E16))
F17: =IF(OR(D17="",E17=""),"",MAX(0,D17-E17))
F18: =IF(OR(D18="",E18=""),"",MAX(0,D18-E18))
F19: =IF(OR(D19="",E19=""),"",MAX(0,D19-E19))
... F41: =IF(OR(D41="",E41=""),"",MAX(0,D41-E41))

Sheet Machine 2
A1: Slot | B1: Product | C1: Price | D1: Capacity | E1: Left | F1: To load
A2: A1 | B2: Water 50 cl | C2: 1 | D2: 8 | E2: 1 | F2: =IF(OR(D2="",E2=""),"",MAX(0,D2-E2))
A3: A2 | B3: Cola, can | C3: 1.3 | D3: 8 | E3: 5 | F3: =IF(OR(D3="",E3=""),"",MAX(0,D3-E3))
A4: B1 | B4: Crisps | C4: 1.1 | D4: 10 | E4: 2 | F4: =IF(OR(D4="",E4=""),"",MAX(0,D4-E4))
A5: B2 | B5: Biscuits | C5: 1 | D5: 10 | E5: 7 | F5: =IF(OR(D5="",E5=""),"",MAX(0,D5-E5))
F6: =IF(OR(D6="",E6=""),"",MAX(0,D6-E6))
F7: =IF(OR(D7="",E7=""),"",MAX(0,D7-E7))
F8: =IF(OR(D8="",E8=""),"",MAX(0,D8-E8))
F9: =IF(OR(D9="",E9=""),"",MAX(0,D9-E9))
F10: =IF(OR(D10="",E10=""),"",MAX(0,D10-E10))
F11: =IF(OR(D11="",E11=""),"",MAX(0,D11-E11))
F12: =IF(OR(D12="",E12=""),"",MAX(0,D12-E12))
F13: =IF(OR(D13="",E13=""),"",MAX(0,D13-E13))
F14: =IF(OR(D14="",E14=""),"",MAX(0,D14-E14))
F15: =IF(OR(D15="",E15=""),"",MAX(0,D15-E15))
F16: =IF(OR(D16="",E16=""),"",MAX(0,D16-E16))
F17: =IF(OR(D17="",E17=""),"",MAX(0,D17-E17))
... F41: =IF(OR(D41="",E41=""),"",MAX(0,D41-E41))

Sheet Machine 3
A1: Slot | B1: Product | C1: Price | D1: Capacity | E1: Left | F1: To load
F2: =IF(OR(D2="",E2=""),"",MAX(0,D2-E2))
F3: =IF(OR(D3="",E3=""),"",MAX(0,D3-E3))
F4: =IF(OR(D4="",E4=""),"",MAX(0,D4-E4))
F5: =IF(OR(D5="",E5=""),"",MAX(0,D5-E5))
F6: =IF(OR(D6="",E6=""),"",MAX(0,D6-E6))
F7: =IF(OR(D7="",E7=""),"",MAX(0,D7-E7))
F8: =IF(OR(D8="",E8=""),"",MAX(0,D8-E8))
F9: =IF(OR(D9="",E9=""),"",MAX(0,D9-E9))
F10: =IF(OR(D10="",E10=""),"",MAX(0,D10-E10))
F11: =IF(OR(D11="",E11=""),"",MAX(0,D11-E11))
F12: =IF(OR(D12="",E12=""),"",MAX(0,D12-E12))
F13: =IF(OR(D13="",E13=""),"",MAX(0,D13-E13))
... F41: =IF(OR(D41="",E41=""),"",MAX(0,D41-E41))

Sheet Machine 4
A1: Slot | B1: Product | C1: Price | D1: Capacity | E1: Left | F1: To load
F2: =IF(OR(D2="",E2=""),"",MAX(0,D2-E2))
F3: =IF(OR(D3="",E3=""),"",MAX(0,D3-E3))
F4: =IF(OR(D4="",E4=""),"",MAX(0,D4-E4))
F5: =IF(OR(D5="",E5=""),"",MAX(0,D5-E5))
F6: =IF(OR(D6="",E6=""),"",MAX(0,D6-E6))
F7: =IF(OR(D7="",E7=""),"",MAX(0,D7-E7))
F8: =IF(OR(D8="",E8=""),"",MAX(0,D8-E8))
F9: =IF(OR(D9="",E9=""),"",MAX(0,D9-E9))
F10: =IF(OR(D10="",E10=""),"",MAX(0,D10-E10))
F11: =IF(OR(D11="",E11=""),"",MAX(0,D11-E11))
F12: =IF(OR(D12="",E12=""),"",MAX(0,D12-E12))
F13: =IF(OR(D13="",E13=""),"",MAX(0,D13-E13))
... F41: =IF(OR(D41="",E41=""),"",MAX(0,D41-E41))
