Workbook

Sheet Como se usa
B2: Modelo de lista de carga para vending
B4: Para que serve: saber antes de saír cantas unidades de cada produto tes que sacar do almacén para as máquinas que visitas hoxe.
B5: 1. En «Produtos», escribe unha vez o que vendes e cantas unidades trae cada caixa.
B6: 2. En cada folla «Máquina», unha fila por cela: o código da cela, o produto (escólleo da lista), o prezo e a capacidade.
B7: 3. O día de ruta, apunta en «Quedan» o que queda en cada cela (ou o que calculas que queda) e a columna «A cargar» énchese soa.
B8: 4. En «Lista de carga», pon «Si» debaixo das máquinas que visitas hoxe: suma o que falta de cada produto e dite cantas caixas enteiras e unidades soltas sacar.
B9: As follas traen un exemplo inventado en «Máquina 1» e «Máquina 2»: bórrao e pon o teu. Para máis máquinas, duplica unha folla «Máquina» e engade a súa columna en «Lista de carga».
B11: Modelo gratuíto de Repónlo · A lista de carga feita soa, co ritmo de venda de cada cela: reponlo.com/gl/ (gratis cunha máquina)

Sheet Lista de carga
A1: Lista de carga do día
A3: Visítala hoxe? | B3: Máquina 1 | C3: Máquina 2 | D3: Máquina 3 | E3: Máquina 4
B4: Si | C4: Si | D4: Non | E4: Non
A6: Produto | B6: Unidades a cargar | C6: Caixas enteiras | D6: Unidades soltas
A7: =IF('Produtos'!A2="","",'Produtos'!A2) | B7: =IF($A7="","",IF(B$4="Si",SUMIF('Máquina 1'!$B$2:$B$41,$A7,'Máquina 1'!$F$2:$F$41),0)+IF(C$4="Si",SUMIF('Máquina 2'!$B$2:$B$41,$A7,'Máquina 2'!$F$2:$F$41),0)+IF(D$4="Si",SUMIF('Máquina 3'!$B$2:$B$41,$A7,'Máquina 3'!$F$2:$F$41),0)+IF(E$4="Si",SUMIF('Máquina 4'!$B$2:$B$41,$A7,'Máquina 4'!$F$2:$F$41),0)) | C7: =IF($A7="","",IF('Produtos'!B2>0,INT(B7/'Produtos'!B2),"")) | D7: =IF($A7="","",IF('Produtos'!B2>0,MOD(B7,'Produtos'!B2),""))
A8: =IF('Produtos'!A3="","",'Produtos'!A3) | B8: =IF($A8="","",IF(B$4="Si",SUMIF('Máquina 1'!$B$2:$B$41,$A8,'Máquina 1'!$F$2:$F$41),0)+IF(C$4="Si",SUMIF('Máquina 2'!$B$2:$B$41,$A8,'Máquina 2'!$F$2:$F$41),0)+IF(D$4="Si",SUMIF('Máquina 3'!$B$2:$B$41,$A8,'Máquina 3'!$F$2:$F$41),0)+IF(E$4="Si",SUMIF('Máquina 4'!$B$2:$B$41,$A8,'Máquina 4'!$F$2:$F$41),0)) | C8: =IF($A8="","",IF('Produtos'!B3>0,INT(B8/'Produtos'!B3),"")) | D8: =IF($A8="","",IF('Produtos'!B3>0,MOD(B8,'Produtos'!B3),""))
A9: =IF('Produtos'!A4="","",'Produtos'!A4) | B9: =IF($A9="","",IF(B$4="Si",SUMIF('Máquina 1'!$B$2:$B$41,$A9,'Máquina 1'!$F$2:$F$41),0)+IF(C$4="Si",SUMIF('Máquina 2'!$B$2:$B$41,$A9,'Máquina 2'!$F$2:$F$41),0)+IF(D$4="Si",SUMIF('Máquina 3'!$B$2:$B$41,$A9,'Máquina 3'!$F$2:$F$41),0)+IF(E$4="Si",SUMIF('Máquina 4'!$B$2:$B$41,$A9,'Máquina 4'!$F$2:$F$41),0)) | C9: =IF($A9="","",IF('Produtos'!B4>0,INT(B9/'Produtos'!B4),"")) | D9: =IF($A9="","",IF('Produtos'!B4>0,MOD(B9,'Produtos'!B4),""))
A10: =IF('Produtos'!A5="","",'Produtos'!A5) | B10: =IF($A10="","",IF(B$4="Si",SUMIF('Máquina 1'!$B$2:$B$41,$A10,'Máquina 1'!$F$2:$F$41),0)+IF(C$4="Si",SUMIF('Máquina 2'!$B$2:$B$41,$A10,'Máquina 2'!$F$2:$F$41),0)+IF(D$4="Si",SUMIF('Máquina 3'!$B$2:$B$41,$A10,'Máquina 3'!$F$2:$F$41),0)+IF(E$4="Si",SUMIF('Máquina 4'!$B$2:$B$41,$A10,'Máquina 4'!$F$2:$F$41),0)) | C10: =IF($A10="","",IF('Produtos'!B5>0,INT(B10/'Produtos'!B5),"")) | D10: =IF($A10="","",IF('Produtos'!B5>0,MOD(B10,'Produtos'!B5),""))
A11: =IF('Produtos'!A6="","",'Produtos'!A6) | B11: =IF($A11="","",IF(B$4="Si",SUMIF('Máquina 1'!$B$2:$B$41,$A11,'Máquina 1'!$F$2:$F$41),0)+IF(C$4="Si",SUMIF('Máquina 2'!$B$2:$B$41,$A11,'Máquina 2'!$F$2:$F$41),0)+IF(D$4="Si",SUMIF('Máquina 3'!$B$2:$B$41,$A11,'Máquina 3'!$F$2:$F$41),0)+IF(E$4="Si",SUMIF('Máquina 4'!$B$2:$B$41,$A11,'Máquina 4'!$F$2:$F$41),0)) | C11: =IF($A11="","",IF('Produtos'!B6>0,INT(B11/'Produtos'!B6),"")) | D11: =IF($A11="","",IF('Produtos'!B6>0,MOD(B11,'Produtos'!B6),""))
A12: =IF('Produtos'!A7="","",'Produtos'!A7) | B12: =IF($A12="","",IF(B$4="Si",SUMIF('Máquina 1'!$B$2:$B$41,$A12,'Máquina 1'!$F$2:$F$41),0)+IF(C$4="Si",SUMIF('Máquina 2'!$B$2:$B$41,$A12,'Máquina 2'!$F$2:$F$41),0)+IF(D$4="Si",SUMIF('Máquina 3'!$B$2:$B$41,$A12,'Máquina 3'!$F$2:$F$41),0)+IF(E$4="Si",SUMIF('Máquina 4'!$B$2:$B$41,$A12,'Máquina 4'!$F$2:$F$41),0)) | C12: =IF($A12="","",IF('Produtos'!B7>0,INT(B12/'Produtos'!B7),"")) | D12: =IF($A12="","",IF('Produtos'!B7>0,MOD(B12,'Produtos'!B7),""))
A13: =IF('Produtos'!A8="","",'Produtos'!A8) | B13: =IF($A13="","",IF(B$4="Si",SUMIF('Máquina 1'!$B$2:$B$41,$A13,'Máquina 1'!$F$2:$F$41),0)+IF(C$4="Si",SUMIF('Máquina 2'!$B$2:$B$41,$A13,'Máquina 2'!$F$2:$F$41),0)+IF(D$4="Si",SUMIF('Máquina 3'!$B$2:$B$41,$A13,'Máquina 3'!$F$2:$F$41),0)+IF(E$4="Si",SUMIF('Máquina 4'!$B$2:$B$41,$A13,'Máquina 4'!$F$2:$F$41),0)) | C13: =IF($A13="","",IF('Produtos'!B8>0,INT(B13/'Produtos'!B8),"")) | D13: =IF($A13="","",IF('Produtos'!B8>0,MOD(B13,'Produtos'!B8),""))
A14: =IF('Produtos'!A9="","",'Produtos'!A9) | B14: =IF($A14="","",IF(B$4="Si",SUMIF('Máquina 1'!$B$2:$B$41,$A14,'Máquina 1'!$F$2:$F$41),0)+IF(C$4="Si",SUMIF('Máquina 2'!$B$2:$B$41,$A14,'Máquina 2'!$F$2:$F$41),0)+IF(D$4="Si",SUMIF('Máquina 3'!$B$2:$B$41,$A14,'Máquina 3'!$F$2:$F$41),0)+IF(E$4="Si",SUMIF('Máquina 4'!$B$2:$B$41,$A14,'Máquina 4'!$F$2:$F$41),0)) | C14: =IF($A14="","",IF('Produtos'!B9>0,INT(B14/'Produtos'!B9),"")) | D14: =IF($A14="","",IF('Produtos'!B9>0,MOD(B14,'Produtos'!B9),""))
A15: =IF('Produtos'!A10="","",'Produtos'!A10) | B15: =IF($A15="","",IF(B$4="Si",SUMIF('Máquina 1'!$B$2:$B$41,$A15,'Máquina 1'!$F$2:$F$41),0)+IF(C$4="Si",SUMIF('Máquina 2'!$B$2:$B$41,$A15,'Máquina 2'!$F$2:$F$41),0)+IF(D$4="Si",SUMIF('Máquina 3'!$B$2:$B$41,$A15,'Máquina 3'!$F$2:$F$41),0)+IF(E$4="Si",SUMIF('Máquina 4'!$B$2:$B$41,$A15,'Máquina 4'!$F$2:$F$41),0)) | C15: =IF($A15="","",IF('Produtos'!B10>0,INT(B15/'Produtos'!B10),"")) | D15: =IF($A15="","",IF('Produtos'!B10>0,MOD(B15,'Produtos'!B10),""))
A16: =IF('Produtos'!A11="","",'Produtos'!A11) | B16: =IF($A16="","",IF(B$4="Si",SUMIF('Máquina 1'!$B$2:$B$41,$A16,'Máquina 1'!$F$2:$F$41),0)+IF(C$4="Si",SUMIF('Máquina 2'!$B$2:$B$41,$A16,'Máquina 2'!$F$2:$F$41),0)+IF(D$4="Si",SUMIF('Máquina 3'!$B$2:$B$41,$A16,'Máquina 3'!$F$2:$F$41),0)+IF(E$4="Si",SUMIF('Máquina 4'!$B$2:$B$41,$A16,'Máquina 4'!$F$2:$F$41),0)) | C16: =IF($A16="","",IF('Produtos'!B11>0,INT(B16/'Produtos'!B11),"")) | D16: =IF($A16="","",IF('Produtos'!B11>0,MOD(B16,'Produtos'!B11),""))
A17: =IF('Produtos'!A12="","",'Produtos'!A12) | B17: =IF($A17="","",IF(B$4="Si",SUMIF('Máquina 1'!$B$2:$B$41,$A17,'Máquina 1'!$F$2:$F$41),0)+IF(C$4="Si",SUMIF('Máquina 2'!$B$2:$B$41,$A17,'Máquina 2'!$F$2:$F$41),0)+IF(D$4="Si",SUMIF('Máquina 3'!$B$2:$B$41,$A17,'Máquina 3'!$F$2:$F$41),0)+IF(E$4="Si",SUMIF('Máquina 4'!$B$2:$B$41,$A17,'Máquina 4'!$F$2:$F$41),0)) | C17: =IF($A17="","",IF('Produtos'!B12>0,INT(B17/'Produtos'!B12),"")) | D17: =IF($A17="","",IF('Produtos'!B12>0,MOD(B17,'Produtos'!B12),""))
A18: =IF('Produtos'!A13="","",'Produtos'!A13) | B18: =IF($A18="","",IF(B$4="Si",SUMIF('Máquina 1'!$B$2:$B$41,$A18,'Máquina 1'!$F$2:$F$41),0)+IF(C$4="Si",SUMIF('Máquina 2'!$B$2:$B$41,$A18,'Máquina 2'!$F$2:$F$41),0)+IF(D$4="Si",SUMIF('Máquina 3'!$B$2:$B$41,$A18,'Máquina 3'!$F$2:$F$41),0)+IF(E$4="Si",SUMIF('Máquina 4'!$B$2:$B$41,$A18,'Máquina 4'!$F$2:$F$41),0)) | C18: =IF($A18="","",IF('Produtos'!B13>0,INT(B18/'Produtos'!B13),"")) | D18: =IF($A18="","",IF('Produtos'!B13>0,MOD(B18,'Produtos'!B13),""))
... A86: =IF('Produtos'!A81="","",'Produtos'!A81) | B86: =IF($A86="","",IF(B$4="Si",SUMIF('Máquina 1'!$B$2:$B$41,$A86,'Máquina 1'!$F$2:$F$41),0)+IF(C$4="Si",SUMIF('Máquina 2'!$B$2:$B$41,$A86,'Máquina 2'!$F$2:$F$41),0)+IF(D$4="Si",SUMIF('Máquina 3'!$B$2:$B$41,$A86,'Máquina 3'!$F$2:$F$41),0)+IF(E$4="Si",SUMIF('Máquina 4'!$B$2:$B$41,$A86,'Máquina 4'!$F$2:$F$41),0)) | C86: =IF($A86="","",IF('Produtos'!B81>0,INT(B86/'Produtos'!B81),"")) | D86: =IF($A86="","",IF('Produtos'!B81>0,MOD(B86,'Produtos'!B81),""))
A87: Total | B87: =SUM(B7:B86)

Sheet Produtos
A1: Produto | B1: Unidades por caixa | C1: Prezo de compra (sen IVE)
A2: Auga 50 cl | B2: 12 | C2: 0.18
A3: Refresco de cola, lata | B3: 24 | C3: 0.42
A4: Zume de laranxa | B4: 12 | C4: 0.55
A5: Patacas fritidas | B5: 20 | C5: 0.38
A6: Barra de cereais | B6: 24 | C6: 0.35
A7: Galletas | B7: 20 | C7: 0.3

Sheet Máquina 1
A1: Cela | B1: Produto | C1: Prezo | D1: Capacidade | E1: Quedan | F1: A cargar
A2: 11 | B2: Auga 50 cl | C2: 1 | D2: 10 | E2: 3 | F2: =IF(OR(D2="",E2=""),"",MAX(0,D2-E2))
A3: 12 | B3: Refresco de cola, lata | C3: 1.3 | D3: 8 | E3: 2 | F3: =IF(OR(D3="",E3=""),"",MAX(0,D3-E3))
A4: 13 | B4: Zume de laranxa | C4: 1.4 | D4: 8 | E4: 6 | F4: =IF(OR(D4="",E4=""),"",MAX(0,D4-E4))
A5: 21 | B5: Patacas fritidas | C5: 1.1 | D5: 12 | E5: 5 | F5: =IF(OR(D5="",E5=""),"",MAX(0,D5-E5))
A6: 22 | B6: Barra de cereais | C6: 1.2 | D6: 10 | E6: 10 | F6: =IF(OR(D6="",E6=""),"",MAX(0,D6-E6))
A7: 23 | B7: Galletas | C7: 1 | D7: 10 | E7: 4 | F7: =IF(OR(D7="",E7=""),"",MAX(0,D7-E7))
F8: =IF(OR(D8="",E8=""),"",MAX(0,D8-E8))
F9: =IF(OR(D9="",E9=""),"",MAX(0,D9-E9))
F10: =IF(OR(D10="",E10=""),"",MAX(0,D10-E10))
F11: =IF(OR(D11="",E11=""),"",MAX(0,D11-E11))
F12: =IF(OR(D12="",E12=""),"",MAX(0,D12-E12))
F13: =IF(OR(D13="",E13=""),"",MAX(0,D13-E13))
F14: =IF(OR(D14="",E14=""),"",MAX(0,D14-E14))
F15: =IF(OR(D15="",E15=""),"",MAX(0,D15-E15))
F16: =IF(OR(D16="",E16=""),"",MAX(0,D16-E16))
F17: =IF(OR(D17="",E17=""),"",MAX(0,D17-E17))
F18: =IF(OR(D18="",E18=""),"",MAX(0,D18-E18))
F19: =IF(OR(D19="",E19=""),"",MAX(0,D19-E19))
... F41: =IF(OR(D41="",E41=""),"",MAX(0,D41-E41))

Sheet Máquina 2
A1: Cela | B1: Produto | C1: Prezo | D1: Capacidade | E1: Quedan | F1: A cargar
A2: A1 | B2: Auga 50 cl | C2: 1 | D2: 8 | E2: 1 | F2: =IF(OR(D2="",E2=""),"",MAX(0,D2-E2))
A3: A2 | B3: Refresco de cola, lata | C3: 1.3 | D3: 8 | E3: 5 | F3: =IF(OR(D3="",E3=""),"",MAX(0,D3-E3))
A4: B1 | B4: Patacas fritidas | C4: 1.1 | D4: 10 | E4: 2 | F4: =IF(OR(D4="",E4=""),"",MAX(0,D4-E4))
A5: B2 | B5: Galletas | C5: 1 | D5: 10 | E5: 7 | F5: =IF(OR(D5="",E5=""),"",MAX(0,D5-E5))
F6: =IF(OR(D6="",E6=""),"",MAX(0,D6-E6))
F7: =IF(OR(D7="",E7=""),"",MAX(0,D7-E7))
F8: =IF(OR(D8="",E8=""),"",MAX(0,D8-E8))
F9: =IF(OR(D9="",E9=""),"",MAX(0,D9-E9))
F10: =IF(OR(D10="",E10=""),"",MAX(0,D10-E10))
F11: =IF(OR(D11="",E11=""),"",MAX(0,D11-E11))
F12: =IF(OR(D12="",E12=""),"",MAX(0,D12-E12))
F13: =IF(OR(D13="",E13=""),"",MAX(0,D13-E13))
F14: =IF(OR(D14="",E14=""),"",MAX(0,D14-E14))
F15: =IF(OR(D15="",E15=""),"",MAX(0,D15-E15))
F16: =IF(OR(D16="",E16=""),"",MAX(0,D16-E16))
F17: =IF(OR(D17="",E17=""),"",MAX(0,D17-E17))
... F41: =IF(OR(D41="",E41=""),"",MAX(0,D41-E41))

Sheet Máquina 3
A1: Cela | B1: Produto | C1: Prezo | D1: Capacidade | E1: Quedan | F1: A cargar
F2: =IF(OR(D2="",E2=""),"",MAX(0,D2-E2))
F3: =IF(OR(D3="",E3=""),"",MAX(0,D3-E3))
F4: =IF(OR(D4="",E4=""),"",MAX(0,D4-E4))
F5: =IF(OR(D5="",E5=""),"",MAX(0,D5-E5))
F6: =IF(OR(D6="",E6=""),"",MAX(0,D6-E6))
F7: =IF(OR(D7="",E7=""),"",MAX(0,D7-E7))
F8: =IF(OR(D8="",E8=""),"",MAX(0,D8-E8))
F9: =IF(OR(D9="",E9=""),"",MAX(0,D9-E9))
F10: =IF(OR(D10="",E10=""),"",MAX(0,D10-E10))
F11: =IF(OR(D11="",E11=""),"",MAX(0,D11-E11))
F12: =IF(OR(D12="",E12=""),"",MAX(0,D12-E12))
F13: =IF(OR(D13="",E13=""),"",MAX(0,D13-E13))
... F41: =IF(OR(D41="",E41=""),"",MAX(0,D41-E41))

Sheet Máquina 4
A1: Cela | B1: Produto | C1: Prezo | D1: Capacidade | E1: Quedan | F1: A cargar
F2: =IF(OR(D2="",E2=""),"",MAX(0,D2-E2))
F3: =IF(OR(D3="",E3=""),"",MAX(0,D3-E3))
F4: =IF(OR(D4="",E4=""),"",MAX(0,D4-E4))
F5: =IF(OR(D5="",E5=""),"",MAX(0,D5-E5))
F6: =IF(OR(D6="",E6=""),"",MAX(0,D6-E6))
F7: =IF(OR(D7="",E7=""),"",MAX(0,D7-E7))
F8: =IF(OR(D8="",E8=""),"",MAX(0,D8-E8))
F9: =IF(OR(D9="",E9=""),"",MAX(0,D9-E9))
F10: =IF(OR(D10="",E10=""),"",MAX(0,D10-E10))
F11: =IF(OR(D11="",E11=""),"",MAX(0,D11-E11))
F12: =IF(OR(D12="",E12=""),"",MAX(0,D12-E12))
F13: =IF(OR(D13="",E13=""),"",MAX(0,D13-E13))
... F41: =IF(OR(D41="",E41=""),"",MAX(0,D41-E41))
